BEGIN:VCALENDAR
VERSION:2.0
PRODID:-//www.thearcfamilyinstitute.org//NONSGML kigkonsult.se iCalcreator 
 2.30.10//
CALSCALE:GREGORIAN
METHOD:PUBLISH
UID:b58ffd9c-0478-439f-b167-e4bf69094533
X-WR-CALDESC:
X-WR-RELCALID:90ebbf24f1b407a940b112ce52052c41
X-WR-TIMEZONE:America/New_York
BEGIN:VTIMEZONE
TZID:America/New_York
BEGIN:STANDARD
TZNAME:EST
DTSTART:20161106T020000
TZOFFSETFROM:-0400
TZOFFSETTO:-0500
RDATE:20171105T020000
RDATE:20181104T020000
END:STANDARD
BEGIN:DAYLIGHT
TZNAME:EDT
DTSTART:20170312T020000
TZOFFSETFROM:-0500
TZOFFSETTO:-0400
RDATE:20180311T020000
END:DAYLIGHT
END:VTIMEZONE
BEGIN:VEVENT
UID:cf95522e-cb7d-476f-8400-f5105554a514
DTSTAMP:20260424T094003Z
DESCRIPTION:
DTSTART;TZID=America/New_York:20170510T110000
DTEND;TZID=America/New_York:20170510T123000
LOCATION:Ocean Library\, Forked River
SUMMARY:Assistive Technology (AT) Workshops
END:VEVENT
END:VCALENDAR
