BEGIN:VCALENDAR
VERSION:2.0
PRODID:-//www.thearcfamilyinstitute.org//NONSGML kigkonsult.se iCalcreator 
 2.30.10//
CALSCALE:GREGORIAN
METHOD:PUBLISH
UID:fc93c206-fecc-426c-8f6d-d78a0c0c7580
X-WR-CALDESC:Presented by Madalyn Bick\, The Arc of Monmouth\n\nInformation
  on SSI and SSDI\, the disability programs administered by the Social Secu
 rity Administration\, and what it means for your loved\none. Bring your qu
 estions about Medicare and Medicaid.
X-WR-RELCALID:7c0e547849571f52b46f72f65f1d8202
X-WR-TIMEZONE:America/New_York
BEGIN:VTIMEZONE
TZID:America/New_York
BEGIN:STANDARD
TZNAME:EST
DTSTART:20161106T020000
TZOFFSETFROM:-0400
TZOFFSETTO:-0500
RDATE:20171105T020000
RDATE:20181104T020000
END:STANDARD
BEGIN:DAYLIGHT
TZNAME:EDT
DTSTART:20170312T020000
TZOFFSETFROM:-0500
TZOFFSETTO:-0400
RDATE:20180311T020000
END:DAYLIGHT
END:VTIMEZONE
BEGIN:VEVENT
UID:bf631182-07f5-43bc-9960-df19e4a14efe
DTSTAMP:20260424T095538Z
DESCRIPTION:Presented by Madalyn Bick\, The Arc of Monmouth\n\nInformation 
 on SSI and SSDI\, the disability programs administered by the Social Secur
 ity Administration\, and what it means for your loved\none. Bring your que
 stions about Medicare and Medicaid.
DTSTART;TZID=America/New_York:20170509T120000
DTEND;TZID=America/New_York:20170509T130000
LOCATION:The Arc Center (1158 Wayside Road\, Tinton Falls\, NJ 07712)
SUMMARY:The Arc of Monmouth - The ABC's of Permanent Adult Disability Benef
 its
END:VEVENT
END:VCALENDAR
