BEGIN:VCALENDAR
VERSION:2.0
PRODID:-//www.thearcfamilyinstitute.org//NONSGML kigkonsult.se iCalcreator 
 2.30.10//
CALSCALE:GREGORIAN
METHOD:PUBLISH
UID:440ae101-38c8-433f-995e-db3c540ba42c
X-WR-CALDESC:
X-WR-RELCALID:d5ab4b8ba2834cabdaba67a4207e617e
X-WR-TIMEZONE:America/New_York
BEGIN:VTIMEZONE
TZID:America/New_York
BEGIN:STANDARD
TZNAME:EST
DTSTART:20161106T020000
TZOFFSETFROM:-0400
TZOFFSETTO:-0500
RDATE:20171105T020000
END:STANDARD
BEGIN:DAYLIGHT
TZNAME:EDT
DTSTART:20170312T020000
TZOFFSETFROM:-0500
TZOFFSETTO:-0400
RDATE:20180311T020000
END:DAYLIGHT
END:VTIMEZONE
BEGIN:VEVENT
UID:978151e0-eb06-4e31-aed9-0634e5e28880
DTSTAMP:20260424T110452Z
DESCRIPTION:
DTSTART;TZID=America/New_York:20170429T093000
DTEND;TZID=America/New_York:20170429T120000
LOCATION:Hunterdon Medical Center\, 2100 Westcott Drive\, Flemington\, 0882
 2
SUMMARY:Housing Choices for Individuals with Developmental Disabilities (Hu
 nterdon)
END:VEVENT
END:VCALENDAR
