BEGIN:VCALENDAR
VERSION:2.0
PRODID:-//www.thearcfamilyinstitute.org//NONSGML kigkonsult.se iCalcreator 
 2.30.10//
CALSCALE:GREGORIAN
METHOD:PUBLISH
UID:3669e379-58cb-47d9-9506-ce4dd87a05da
X-WR-CALDESC:The Arc of New Jersey is happy to announce tickets are now on 
 sale for the Second Annual New Jersey Sprout Film Festival! All the films 
 feature people with intellectual and developmental disabilities or are dir
 ected by people with intellectual and developmental disabilities. Q&A afte
 r the showing.
X-WR-RELCALID:9e0f767cdb617157e39fa0fceeb1de78
X-WR-TIMEZONE:America/New_York
BEGIN:VTIMEZONE
TZID:America/New_York
BEGIN:STANDARD
TZNAME:EST
DTSTART:20161106T020000
TZOFFSETFROM:-0400
TZOFFSETTO:-0500
RDATE:20171105T020000
END:STANDARD
BEGIN:DAYLIGHT
TZNAME:EDT
DTSTART:20170312T020000
TZOFFSETFROM:-0500
TZOFFSETTO:-0400
RDATE:20180311T020000
END:DAYLIGHT
END:VTIMEZONE
BEGIN:VEVENT
UID:a33b2c71-5b97-4ea7-92c9-05b878a8d391
DTSTAMP:20260424T110705Z
DESCRIPTION:The Arc of New Jersey is happy to announce tickets are now on s
 ale for the Second Annual New Jersey Sprout Film Festival! All the films f
 eature people with intellectual and developmental disabilities or are dire
 cted by people with intellectual and developmental disabilities. Q&A after
  the showing.
DTSTART;TZID=America/New_York:20170429T090000
DTEND;TZID=America/New_York:20170429T130000
LOCATION:Middlesex County College\, West Hall\, Parkview Room
SUMMARY:2017 Sprout Film Festival
END:VEVENT
END:VCALENDAR
