BEGIN:VCALENDAR
VERSION:2.0
PRODID:-//www.thearcfamilyinstitute.org//NONSGML kigkonsult.se iCalcreator 
 2.30.10//
CALSCALE:GREGORIAN
METHOD:PUBLISH
UID:b0159ebe-35bb-4fef-a845-251e46d2f70e
X-WR-CALDESC:
X-WR-RELCALID:57c3d187c028dc670ea92ad69b8b9baa
X-WR-TIMEZONE:America/New_York
BEGIN:VTIMEZONE
TZID:America/New_York
BEGIN:STANDARD
TZNAME:EST
DTSTART:20161106T020000
TZOFFSETFROM:-0400
TZOFFSETTO:-0500
RDATE:20171105T020000
END:STANDARD
BEGIN:DAYLIGHT
TZNAME:EDT
DTSTART:20170312T020000
TZOFFSETFROM:-0500
TZOFFSETTO:-0400
RDATE:20180311T020000
END:DAYLIGHT
END:VTIMEZONE
BEGIN:VEVENT
UID:1e405b60-9f9c-4d91-ad25-10fa641624b8
DTSTAMP:20260424T110618Z
DESCRIPTION:
DTSTART;TZID=America/New_York:20170427T173000
DTEND;TZID=America/New_York:20170427T193000
LOCATION:Freehold Raceway Mall
SUMMARY:The Arc Monmouth: IEP Review
END:VEVENT
END:VCALENDAR
