BEGIN:VCALENDAR
VERSION:2.0
PRODID:-//www.thearcfamilyinstitute.org//NONSGML kigkonsult.se iCalcreator 
 2.30.10//
CALSCALE:GREGORIAN
METHOD:PUBLISH
UID:4e6d7ba3-4c0e-4690-93c0-37d9836df093
X-WR-CALDESC:Dinner will be served. Transition planning involves evaluating
  a student's’ skills\, abilities\, strengths\, challenges\, and preference
 s to envision their life after leaving school. It also involves setting go
 als for the student to strive towards\, and identifies needs for support. 
 Executing a transition plan can and should be a part of the student's’ Ind
 ividualized Educational Plan (IEP). Students and families must be actively
  involved in the transition planning process as early as possible to be ef
 fective. This presentation will discuss the importance of planning\, the s
 teps necessary to plan\, and will provide hands-on tools to put a plan in 
 place.
X-WR-RELCALID:a188fd7005344de2b1bbdd9f1a6ce37b
X-WR-TIMEZONE:America/New_York
BEGIN:VTIMEZONE
TZID:America/New_York
BEGIN:STANDARD
TZNAME:EST
DTSTART:20161106T020000
TZOFFSETFROM:-0400
TZOFFSETTO:-0500
RDATE:20171105T020000
END:STANDARD
BEGIN:DAYLIGHT
TZNAME:EDT
DTSTART:20170312T020000
TZOFFSETFROM:-0500
TZOFFSETTO:-0400
RDATE:20180311T020000
END:DAYLIGHT
END:VTIMEZONE
BEGIN:VEVENT
UID:11021b22-60c7-49e2-80b6-c3b125013dc0
DTSTAMP:20260424T110609Z
DESCRIPTION:Dinner will be served. Transition planning involves evaluating 
 a student's’ skills\, abilities\, strengths\, challenges\, and preferences
  to envision their life after leaving school. It also involves setting goa
 ls for the student to strive towards\, and identifies needs for support. E
 xecuting a transition plan can and should be a part of the student's’ Indi
 vidualized Educational Plan (IEP). Students and families must be actively 
 involved in the transition planning process as early as possible to be eff
 ective. This presentation will discuss the importance of planning\, the st
 eps necessary to plan\, and will provide hands-on tools to put a plan in p
 lace.
DTSTART;TZID=America/New_York:20170426T180000
DTEND;TZID=America/New_York:20170426T200000
LOCATION:Bayshore Family Success Center\, 945 St. Highway 36\, Leonardo\, N
 J 07737
SUMMARY:TRANSITION TO ADULTHOOD: Why Planning Is Vital for a Child’s Future
END:VEVENT
END:VCALENDAR
