BEGIN:VCALENDAR
VERSION:2.0
PRODID:-//www.thearcfamilyinstitute.org//NONSGML kigkonsult.se iCalcreator 
 2.30.10//
CALSCALE:GREGORIAN
METHOD:PUBLISH
UID:2eae4ffa-f2b0-42f7-8f0e-58c4bdf0569b
X-WR-CALDESC:Presented by Adam Wilson of Hinkle\, Fingles\, Prior & Fischer
 \n\nJoin The Arc of Monmouth for our Spring 2017 seminar series with prese
 ntations to help families plan\, identify resources and navigate service s
 ystems. Lunch will be provided!\n\nThis session is for families looking fo
 r innovative housing supports for their loved ones.\n\nLearn about options
  for funding residential services\, how to safeguard services for a child\
 ,and how to avoid common pitfalls working with state agencies to obtain ef
 fective out-of-home residential services.
X-WR-RELCALID:37a4a17c977827b166387a325a46f2b8
X-WR-TIMEZONE:America/New_York
BEGIN:VTIMEZONE
TZID:America/New_York
BEGIN:STANDARD
TZNAME:EST
DTSTART:20161106T020000
TZOFFSETFROM:-0400
TZOFFSETTO:-0500
RDATE:20171105T020000
END:STANDARD
BEGIN:DAYLIGHT
TZNAME:EDT
DTSTART:20170312T020000
TZOFFSETFROM:-0500
TZOFFSETTO:-0400
RDATE:20180311T020000
END:DAYLIGHT
END:VTIMEZONE
BEGIN:VEVENT
UID:bb51823b-6ceb-4bc6-9c44-5364b80932d8
DTSTAMP:20260424T110618Z
DESCRIPTION:Presented by Adam Wilson of Hinkle\, Fingles\, Prior & Fischer
 \n\nJoin The Arc of Monmouth for our Spring 2017 seminar series with prese
 ntations to help families plan\, identify resources and navigate service s
 ystems. Lunch will be provided!\n\nThis session is for families looking fo
 r innovative housing supports for their loved ones.\n\nLearn about options
  for funding residential services\, how to safeguard services for a child\
 ,and how to avoid common pitfalls working with state agencies to obtain ef
 fective out-of-home residential services.
DTSTART;TZID=America/New_York:20170425T120000
DTEND;TZID=America/New_York:20170425T130000
LOCATION:The Arc Center (1158 Wayside Road\, Tinton Falls\, NJ 07712)
SUMMARY:The Arc of Monmouth - Creative Housing Options
END:VEVENT
END:VCALENDAR
