BEGIN:VCALENDAR
VERSION:2.0
PRODID:-//www.thearcfamilyinstitute.org//NONSGML kigkonsult.se iCalcreator 
 2.30.10//
CALSCALE:GREGORIAN
METHOD:PUBLISH
UID:b3070ffe-ed0b-4149-8bbd-06daa5bdb1e5
X-WR-CALDESC:** Respite care is available for your child if needed during p
 resentation**\n\nThis presentation will begin with a brief overview of The
  Arc of New Jersey and its programs and services. We will then address man
 y important SSI and Medicaid issues that families may not be aware of\, su
 ch as:\n•	What happens to SSI and Medicaid when the parent of an individual
  with I/DD retires\, or if they become disabled\, or pass away?\n•	What are
  the exceptions to DDD's requirement on having Medicaid?\n•	What are ABLE A
 ccounts\, and how can these accounts be helpful?\n•	What are PPP services a
 nd what is the process to access those services?\n•	What can families do if
  they are unable to locate a physician\, dentist\, or behavioral health pr
 ovider within their son/daughter's Medicaid HMO network?\n•	What is a D-SNP
  and is it helpful for your son/daughter who has both Medicare and Medicai
 d?
X-WR-RELCALID:aa3d77bd597632c52be5c22efc118355
X-WR-TIMEZONE:America/New_York
BEGIN:VTIMEZONE
TZID:America/New_York
BEGIN:STANDARD
TZNAME:EST
DTSTART:20161106T020000
TZOFFSETFROM:-0400
TZOFFSETTO:-0500
RDATE:20171105T020000
END:STANDARD
BEGIN:DAYLIGHT
TZNAME:EDT
DTSTART:20170312T020000
TZOFFSETFROM:-0500
TZOFFSETTO:-0400
RDATE:20180311T020000
END:DAYLIGHT
END:VTIMEZONE
BEGIN:VEVENT
UID:6d06fd0d-64a3-4fb7-834d-d7604337c332
DTSTAMP:20260424T110404Z
DESCRIPTION:** Respite care is available for your child if needed during pr
 esentation**\n\nThis presentation will begin with a brief overview of The 
 Arc of New Jersey and its programs and services. We will then address many
  important SSI and Medicaid issues that families may not be aware of\, suc
 h as:\n•	What happens to SSI and Medicaid when the parent of an individual 
 with I/DD retires\, or if they become disabled\, or pass away?\n•	What are 
 the exceptions to DDD's requirement on having Medicaid?\n•	What are ABLE Ac
 counts\, and how can these accounts be helpful?\n•	What are PPP services an
 d what is the process to access those services?\n•	What can families do if 
 they are unable to locate a physician\, dentist\, or behavioral health pro
 vider within their son/daughter's Medicaid HMO network?\n•	What is a D-SNP 
 and is it helpful for your son/daughter who has both Medicare and Medicaid
 ?
DTSTART;TZID=America/New_York:20170425T183000
DTEND;TZID=America/New_York:20170425T200000
LOCATION:The Arc Middlesex County\, Training Room\, 219 Blackhorse Lane\, S
 uite 1  North Brunswick\, 08902
SUMMARY:Free Workshop: SSI & Medicaid Presentation
END:VEVENT
END:VCALENDAR
