BEGIN:VCALENDAR
VERSION:2.0
PRODID:-//www.thearcfamilyinstitute.org//NONSGML kigkonsult.se iCalcreator 
 2.30.10//
CALSCALE:GREGORIAN
METHOD:PUBLISH
UID:5f8bd5da-1620-4283-8735-3a83b09614a2
X-WR-CALDESC:
X-WR-RELCALID:02ac0bdbd2e84f186ede8775795e48ef
X-WR-TIMEZONE:America/New_York
BEGIN:VTIMEZONE
TZID:America/New_York
BEGIN:STANDARD
TZNAME:EST
DTSTART:20161106T020000
TZOFFSETFROM:-0400
TZOFFSETTO:-0500
RDATE:20171105T020000
END:STANDARD
BEGIN:DAYLIGHT
TZNAME:EDT
DTSTART:20170312T020000
TZOFFSETFROM:-0500
TZOFFSETTO:-0400
RDATE:20180311T020000
END:DAYLIGHT
END:VTIMEZONE
BEGIN:VEVENT
UID:0cbac2f3-bd65-4781-87b0-9879acb5a70b
DTSTAMP:20260424T110852Z
DESCRIPTION:
DTSTART;TZID=America/New_York:20170425T180000
DTEND;TZID=America/New_York:20170425T200000
LOCATION:The Arc Mercer\, 180 Ewingville Rd.\, Ewing Township\, 08638
SUMMARY:Free Housing Workshop: The Journey to Community Housing with Suppor
 ts (Mercer County)
END:VEVENT
END:VCALENDAR
