BEGIN:VCALENDAR
VERSION:2.0
PRODID:-//www.thearcfamilyinstitute.org//NONSGML kigkonsult.se iCalcreator 
 2.30.10//
CALSCALE:GREGORIAN
METHOD:PUBLISH
UID:f9a40860-c9b0-4795-a6c1-88037be0e915
X-WR-CALDESC:This webinar will discuss emerging research and practice in su
 pporting social networks of adults aging with intellectual disabilities. A
 fter a brief introduction on aging in this population\, the webinar will d
 iscuss the role of social relations in later life and address the state of
  knowledge regarding the social support networks of older adults with inte
 llectual disabilities. The webinar will provide a discussion of the role o
 f support services in promoting informal networks and conclude with an exp
 loration of the use of social network mapping and life story work in perso
 n-centered planning. \n\nLieke van Heumen is a postdoctoral research fello
 w at the Department of Disability and Human Development\, University of Il
 linois at Chicago. Lieke’s primary research interest is the intersection o
 f aging and disability with a focus on supports that contribute to aging w
 ell. She believes retrieving the lived experiences of older adults with di
 sabilities by means of inclusive and accessible research methods is key to
  assuring the meaningful engagement of adults with disabilities in the res
 earch process.
X-WR-RELCALID:0028be17faa02783f44c1ee82c400301
X-WR-TIMEZONE:America/New_York
BEGIN:VTIMEZONE
TZID:America/New_York
BEGIN:STANDARD
TZNAME:EST
DTSTART:20161106T020000
TZOFFSETFROM:-0400
TZOFFSETTO:-0500
RDATE:20171105T020000
END:STANDARD
BEGIN:DAYLIGHT
TZNAME:EDT
DTSTART:20170312T020000
TZOFFSETFROM:-0500
TZOFFSETTO:-0400
RDATE:20180311T020000
END:DAYLIGHT
END:VTIMEZONE
BEGIN:VEVENT
UID:d8008598-1f62-406c-8522-0ae33830ddfa
DTSTAMP:20260424T110538Z
DESCRIPTION:This webinar will discuss emerging research and practice in sup
 porting social networks of adults aging with intellectual disabilities. Af
 ter a brief introduction on aging in this population\, the webinar will di
 scuss the role of social relations in later life and address the state of 
 knowledge regarding the social support networks of older adults with intel
 lectual disabilities. The webinar will provide a discussion of the role of
  support services in promoting informal networks and conclude with an expl
 oration of the use of social network mapping and life story work in person
 -centered planning. \n\nLieke van Heumen is a postdoctoral research fellow
  at the Department of Disability and Human Development\, University of Ill
 inois at Chicago. Lieke’s primary research interest is the intersection of
  aging and disability with a focus on supports that contribute to aging we
 ll. She believes retrieving the lived experiences of older adults with dis
 abilities by means of inclusive and accessible research methods is key to 
 assuring the meaningful engagement of adults with disabilities in the rese
 arch process.
DTSTART;TZID=America/New_York:20170420T150000
DTEND;TZID=America/New_York:20170420T160000
LOCATION:
SUMMARY:Webinar: Social Support Networks of Aging Persons with Intellectual
  Disabilities
END:VEVENT
END:VCALENDAR
