BEGIN:VCALENDAR
VERSION:2.0
PRODID:-//www.thearcfamilyinstitute.org//NONSGML kigkonsult.se iCalcreator 
 2.30.10//
CALSCALE:GREGORIAN
METHOD:PUBLISH
UID:6609fcdc-f9b4-4334-bf76-44b4157333a3
X-WR-CALDESC:
X-WR-RELCALID:64a005cf0cc9923bc3fae815142cc093
X-WR-TIMEZONE:America/New_York
BEGIN:VTIMEZONE
TZID:America/New_York
BEGIN:STANDARD
TZNAME:EST
DTSTART:20161106T020000
TZOFFSETFROM:-0400
TZOFFSETTO:-0500
RDATE:20171105T020000
END:STANDARD
BEGIN:DAYLIGHT
TZNAME:EDT
DTSTART:20170312T020000
TZOFFSETFROM:-0500
TZOFFSETTO:-0400
RDATE:20180311T020000
END:DAYLIGHT
END:VTIMEZONE
BEGIN:VEVENT
UID:a2adae3e-3158-49c7-88df-303c27fad46f
DTSTAMP:20260424T110917Z
DESCRIPTION:
DTSTART;TZID=America/New_York:20170419T183000
DTEND;TZID=America/New_York:20170419T203000
LOCATION:Bridgewater Library\, Room B\, 1 Vogt Drive\, Bridgewater\, NJ
SUMMARY:Overall Picture of NJ Present/Future Services\, Fed/NJ Fiscal  Budg
 et\, and NJ/Fed Policy Update
END:VEVENT
END:VCALENDAR
