BEGIN:VCALENDAR
VERSION:2.0
PRODID:-//www.thearcfamilyinstitute.org//NONSGML kigkonsult.se iCalcreator 
 2.30.10//
CALSCALE:GREGORIAN
METHOD:PUBLISH
UID:19dab847-0e00-43db-9aaf-99208a2ebeb7
X-WR-CALDESC:Join us as we discuss the key resources necessary to navigate 
 through the system and how to access them.
X-WR-RELCALID:dfe92b914f6545595b59c3d3654aed13
X-WR-TIMEZONE:America/New_York
BEGIN:VTIMEZONE
TZID:America/New_York
BEGIN:STANDARD
TZNAME:EST
DTSTART:20161106T020000
TZOFFSETFROM:-0400
TZOFFSETTO:-0500
RDATE:20171105T020000
END:STANDARD
BEGIN:DAYLIGHT
TZNAME:EDT
DTSTART:20170312T020000
TZOFFSETFROM:-0500
TZOFFSETTO:-0400
RDATE:20180311T020000
END:DAYLIGHT
END:VTIMEZONE
BEGIN:VEVENT
UID:3a53e47a-91b6-4075-8dfa-529f7207a4cf
DTSTAMP:20260424T110301Z
DESCRIPTION:Join us as we discuss the key resources necessary to navigate t
 hrough the system and how to access them.
DTSTART;TZID=America/New_York:20170418T120000
DTEND;TZID=America/New_York:20170418T130000
LOCATION:
SUMMARY:Webinar: Lunch & Learn: Keys to a Smooth Transition
END:VEVENT
END:VCALENDAR
