BEGIN:VCALENDAR
VERSION:2.0
PRODID:-//www.thearcfamilyinstitute.org//NONSGML kigkonsult.se iCalcreator 
 2.30.10//
CALSCALE:GREGORIAN
METHOD:PUBLISH
UID:38e32c61-5e4c-486d-b8d2-beaa3be9993a
X-WR-CALDESC:
X-WR-RELCALID:0504636cc2b45bc766838c4ba3c90e7d
X-WR-TIMEZONE:America/New_York
BEGIN:VTIMEZONE
TZID:America/New_York
BEGIN:STANDARD
TZNAME:EST
DTSTART:20161106T020000
TZOFFSETFROM:-0400
TZOFFSETTO:-0500
RDATE:20171105T020000
END:STANDARD
BEGIN:DAYLIGHT
TZNAME:EDT
DTSTART:20170312T020000
TZOFFSETFROM:-0500
TZOFFSETTO:-0400
RDATE:20180311T020000
END:DAYLIGHT
END:VTIMEZONE
BEGIN:VEVENT
UID:f1d96dd0-2bfd-4234-bf4b-d7b84dec9e73
DTSTAMP:20260424T110845Z
DESCRIPTION:
DTSTART;TZID=America/New_York:20170412T183000
DTEND;TZID=America/New_York:20170412T203000
LOCATION:
SUMMARY:Informational Meeting All families & People with Disabilities Welco
 me!
END:VEVENT
END:VCALENDAR
