BEGIN:VCALENDAR
VERSION:2.0
PRODID:-//www.thearcfamilyinstitute.org//NONSGML kigkonsult.se iCalcreator 
 2.30.10//
CALSCALE:GREGORIAN
METHOD:PUBLISH
UID:2a139648-3a9d-448c-9972-cf50335bd615
X-WR-CALDESC:Join The Arc of New Jersey Family Institute\, SIBS NJ and Kati
 e Arnold Executive Director of the Sibling Leadership Network as we honor 
 \nNational Sibling Day. \n\nThe role of a sibling in the life of a person 
 with an intellectual and developmental disability (I/DD) is as complex as 
 it is meaningful and often outlasts the parent-child relationship. It is i
 mportant to communicate with siblings when starting to plan for the future
  needs of a person with I/DD. This webinar will explore what to think abou
 t when planning for the future and how to include and engage siblings in t
 hat discussion.
X-WR-RELCALID:e216a6b69b59af84f4afcb4e82db3073
X-WR-TIMEZONE:America/New_York
BEGIN:VTIMEZONE
TZID:America/New_York
BEGIN:STANDARD
TZNAME:EST
DTSTART:20161106T020000
TZOFFSETFROM:-0400
TZOFFSETTO:-0500
RDATE:20171105T020000
END:STANDARD
BEGIN:DAYLIGHT
TZNAME:EDT
DTSTART:20170312T020000
TZOFFSETFROM:-0500
TZOFFSETTO:-0400
RDATE:20180311T020000
END:DAYLIGHT
END:VTIMEZONE
BEGIN:VEVENT
UID:820d6c4a-0419-43b4-909b-57e082ae6883
DTSTAMP:20260424T110413Z
DESCRIPTION:Join The Arc of New Jersey Family Institute\, SIBS NJ and Katie
  Arnold Executive Director of the Sibling Leadership Network as we honor 
 \nNational Sibling Day. \n\nThe role of a sibling in the life of a person 
 with an intellectual and developmental disability (I/DD) is as complex as 
 it is meaningful and often outlasts the parent-child relationship. It is i
 mportant to communicate with siblings when starting to plan for the future
  needs of a person with I/DD. This webinar will explore what to think abou
 t when planning for the future and how to include and engage siblings in t
 hat discussion.
DTSTART;TZID=America/New_York:20170410T180000
DTEND;TZID=America/New_York:20170410T190000
LOCATION:
SUMMARY:Free Webinar: Including Siblings in Future Planning
END:VEVENT
END:VCALENDAR
