BEGIN:VCALENDAR
VERSION:2.0
PRODID:-//www.thearcfamilyinstitute.org//NONSGML kigkonsult.se iCalcreator 
 2.30.10//
CALSCALE:GREGORIAN
METHOD:PUBLISH
UID:94e3ae4b-029a-4c9c-bd76-d78a322d2e13
X-WR-CALDESC:
X-WR-RELCALID:ea85931b0bc78b97575b41afceeb2a0b
X-WR-TIMEZONE:America/New_York
BEGIN:VTIMEZONE
TZID:America/New_York
BEGIN:STANDARD
TZNAME:EST
DTSTART:20161106T020000
TZOFFSETFROM:-0400
TZOFFSETTO:-0500
RDATE:20171105T020000
END:STANDARD
BEGIN:DAYLIGHT
TZNAME:EDT
DTSTART:20170312T020000
TZOFFSETFROM:-0500
TZOFFSETTO:-0400
RDATE:20180311T020000
END:DAYLIGHT
END:VTIMEZONE
BEGIN:VEVENT
UID:8bf29c6a-c2be-47ee-8cd5-c0cb53d495e0
DTSTAMP:20260424T110959Z
DESCRIPTION:
DTSTART;TZID=America/New_York:20170408T083000
DTEND;TZID=America/New_York:20170408T130000
LOCATION:Special Olympics New Jersey Campus\, 3 Princess Road Lawrenceville
 \, 08648
SUMMARY:Planning For Adult Life FREE Parent Forum and Opportunity Expo - Me
 rcer County
END:VEVENT
END:VCALENDAR
