BEGIN:VCALENDAR
VERSION:2.0
PRODID:-//www.thearcfamilyinstitute.org//NONSGML kigkonsult.se iCalcreator 
 2.30.10//
CALSCALE:GREGORIAN
METHOD:PUBLISH
UID:8db120da-6399-439f-8503-0b06c9104021
X-WR-CALDESC:
X-WR-RELCALID:696f40d87f173ad25fc64c3068cc02a7
X-WR-TIMEZONE:America/New_York
BEGIN:VTIMEZONE
TZID:America/New_York
BEGIN:STANDARD
TZNAME:EST
DTSTART:20161106T020000
TZOFFSETFROM:-0400
TZOFFSETTO:-0500
RDATE:20171105T020000
END:STANDARD
BEGIN:DAYLIGHT
TZNAME:EDT
DTSTART:20170312T020000
TZOFFSETFROM:-0500
TZOFFSETTO:-0400
RDATE:20180311T020000
END:DAYLIGHT
END:VTIMEZONE
BEGIN:VEVENT
UID:92a25d43-5368-4091-b2dc-cdbc3e9b2e7f
DTSTAMP:20260424T110323Z
DESCRIPTION:
DTSTART;TZID=America/New_York:20170407T100000
DTEND;TZID=America/New_York:20170407T120000
LOCATION:
SUMMARY:Future Fair (Morris County)
END:VEVENT
END:VCALENDAR
