BEGIN:VCALENDAR
VERSION:2.0
PRODID:-//www.thearcfamilyinstitute.org//NONSGML kigkonsult.se iCalcreator 
 2.30.10//
CALSCALE:GREGORIAN
METHOD:PUBLISH
UID:12b38605-3cc7-4d8b-aa7e-07185ddbe642
X-WR-CALDESC:We welcome families to spend a day at the Museum and receive v
 aluable information from disability service providers. FREE ADMISSION. Hos
 ted by the New Jersey Regional Family Support Planning Council #1 in conju
 nction with the Morris Museum Access-ABILITY Committee\, seeking to expand
  services offered to individuals with special needs through collaborative 
 partnerships.\nPlease join us for an inclusive event featuring fun for all
  ages:\nFacilitated Activity Center and Art Project\nSensory Friendly Film
  in Theater\nAccess to Museum Galleries\n\nThis unique experience also all
 ows you and your family members with an intellectual or developmental disa
 bility to speak with local service providers to learn about services that 
 may enhance your lives.\nWhat school best meets our special needs?\nWhere 
 can we find summer programs and camps?\nWhat medical services are availabl
 e?\nHow can we ensure the future?
X-WR-RELCALID:a106b8f6a81a8f5415cb20cee9bd3dd0
X-WR-TIMEZONE:America/New_York
BEGIN:VTIMEZONE
TZID:America/New_York
BEGIN:STANDARD
TZNAME:EST
DTSTART:20161106T020000
TZOFFSETFROM:-0400
TZOFFSETTO:-0500
RDATE:20171105T020000
END:STANDARD
BEGIN:DAYLIGHT
TZNAME:EDT
DTSTART:20170312T020000
TZOFFSETFROM:-0500
TZOFFSETTO:-0400
RDATE:20180311T020000
END:DAYLIGHT
END:VTIMEZONE
BEGIN:VEVENT
UID:868819bf-2737-4f53-a40a-d4e30feb1e0b
DTSTAMP:20260424T110452Z
DESCRIPTION:We welcome families to spend a day at the Museum and receive va
 luable information from disability service providers. FREE ADMISSION. Host
 ed by the New Jersey Regional Family Support Planning Council #1 in conjun
 ction with the Morris Museum Access-ABILITY Committee\, seeking to expand 
 services offered to individuals with special needs through collaborative p
 artnerships.\nPlease join us for an inclusive event featuring fun for all 
 ages:\nFacilitated Activity Center and Art Project\nSensory Friendly Film 
 in Theater\nAccess to Museum Galleries\n\nThis unique experience also allo
 ws you and your family members with an intellectual or developmental disab
 ility to speak with local service providers to learn about services that m
 ay enhance your lives.\nWhat school best meets our special needs?\nWhere c
 an we find summer programs and camps?\nWhat medical services are available
 ?\nHow can we ensure the future?
DTSTART;TZID=America/New_York:20170402T130000
DTEND;TZID=America/New_York:20170402T160000
LOCATION:Morris Museum\, Normandy Heights Road\, Morristown\, NJ
SUMMARY:Morris Museum Special Needs Day and Provider Fair
END:VEVENT
END:VCALENDAR
