BEGIN:VCALENDAR
VERSION:2.0
PRODID:-//www.thearcfamilyinstitute.org//NONSGML kigkonsult.se iCalcreator 
 2.30.10//
CALSCALE:GREGORIAN
METHOD:PUBLISH
UID:dda5374c-1608-4591-8c86-1edab6ba55c7
X-WR-CALDESC:
X-WR-RELCALID:544e666a6c05606ebb70bb5f2e973011
X-WR-TIMEZONE:America/New_York
BEGIN:VTIMEZONE
TZID:America/New_York
BEGIN:STANDARD
TZNAME:EST
DTSTART:20161106T020000
TZOFFSETFROM:-0400
TZOFFSETTO:-0500
RDATE:20171105T020000
END:STANDARD
BEGIN:DAYLIGHT
TZNAME:EDT
DTSTART:20170312T020000
TZOFFSETFROM:-0500
TZOFFSETTO:-0400
RDATE:20180311T020000
END:DAYLIGHT
END:VTIMEZONE
BEGIN:VEVENT
UID:f17e0ae2-24a4-4d0a-84fa-1242bdbd1b88
DTSTAMP:20260424T124358Z
DESCRIPTION:
DTSTART;TZID=America/New_York:20170330T190000
DTEND;TZID=America/New_York:20170330T200000
LOCATION:The Arc Center\, 1158 Wayside Road\, Tinton Falls\, NJ 07712
SUMMARY:The Arc of Monmouth: Siblings as Caregivers
END:VEVENT
END:VCALENDAR
