BEGIN:VCALENDAR
VERSION:2.0
PRODID:-//www.thearcfamilyinstitute.org//NONSGML kigkonsult.se iCalcreator 
 2.30.10//
CALSCALE:GREGORIAN
METHOD:PUBLISH
UID:02156179-5b22-4f1e-856b-b7af179ac45d
X-WR-CALDESC:The Burlington County Special Services School District is host
 ing a Special Needs Resource Fair and Open House on Thursday\, March 30\, 
 2017\, 5:30 - 8 p.m.\n\nTour our BCSSSD Westampton Campus (serving student
 s ages 3 to 21)\nTour Bancroft at Burlington (serving adults 18 and older)
 \nDiscover a wide-range of medical\, behavioral\, recreational\, and advoc
 acy-related resources\nConnect with representatives from state agencies\, 
 non-profit and social services organizations\, local providers\, and other
  valuable contacts\nLeave with a comprehensive Resource Fair Exhibitor Pro
 gram Booklet
X-WR-RELCALID:810a4d6fcc01d1fcfc85595fdb015454
X-WR-TIMEZONE:America/New_York
BEGIN:VTIMEZONE
TZID:America/New_York
BEGIN:STANDARD
TZNAME:EST
DTSTART:20161106T020000
TZOFFSETFROM:-0400
TZOFFSETTO:-0500
RDATE:20171105T020000
END:STANDARD
BEGIN:DAYLIGHT
TZNAME:EDT
DTSTART:20170312T020000
TZOFFSETFROM:-0500
TZOFFSETTO:-0400
RDATE:20180311T020000
END:DAYLIGHT
END:VTIMEZONE
BEGIN:VEVENT
UID:7e914475-4490-4368-a12f-cd972dc21efc
DTSTAMP:20260424T124241Z
DESCRIPTION:The Burlington County Special Services School District is hosti
 ng a Special Needs Resource Fair and Open House on Thursday\, March 30\, 2
 017\, 5:30 - 8 p.m.\n\nTour our BCSSSD Westampton Campus (serving students
  ages 3 to 21)\nTour Bancroft at Burlington (serving adults 18 and older)
 \nDiscover a wide-range of medical\, behavioral\, recreational\, and advoc
 acy-related resources\nConnect with representatives from state agencies\, 
 non-profit and social services organizations\, local providers\, and other
  valuable contacts\nLeave with a comprehensive Resource Fair Exhibitor Pro
 gram Booklet
DTSTART;TZID=America/New_York:20170330T173000
DTEND;TZID=America/New_York:20170330T200000
LOCATION:Burlington County Special Services School20 Pioneer Blvd\, Westamp
 ton\, NJ 08060
SUMMARY:Burlington County Special Services School District Open House & Res
 ource Fair
END:VEVENT
END:VCALENDAR
