BEGIN:VCALENDAR
VERSION:2.0
PRODID:-//www.thearcfamilyinstitute.org//NONSGML kigkonsult.se iCalcreator 
 2.30.10//
CALSCALE:GREGORIAN
METHOD:PUBLISH
UID:f5dddc59-a0c3-4a38-8047-edaa91976ce5
X-WR-CALDESC:Please RSVP by Monday\, March 27th if you will be attending.
X-WR-RELCALID:047dfee29192ea1d20020d14e3908161
X-WR-TIMEZONE:America/New_York
BEGIN:VTIMEZONE
TZID:America/New_York
BEGIN:STANDARD
TZNAME:EST
DTSTART:20161106T020000
TZOFFSETFROM:-0400
TZOFFSETTO:-0500
RDATE:20171105T020000
END:STANDARD
BEGIN:DAYLIGHT
TZNAME:EDT
DTSTART:20170312T020000
TZOFFSETFROM:-0500
TZOFFSETTO:-0400
RDATE:20180311T020000
END:DAYLIGHT
END:VTIMEZONE
BEGIN:VEVENT
UID:5028f962-824d-40d7-bea6-80fcff41af3e
DTSTAMP:20260424T122328Z
DESCRIPTION:Please RSVP by Monday\, March 27th if you will be attending.
DTSTART;TZID=America/New_York:20170329T183000
DTEND;TZID=America/New_York:20170329T200000
LOCATION:SCARC\, Inc. 11 US Rt 206\, Suite 100\, Augusta\, NJ 07822
SUMMARY:SCARC: Special Needs Trusts\, Community Trusts and the ABLE Act
END:VEVENT
END:VCALENDAR
