BEGIN:VCALENDAR
VERSION:2.0
PRODID:-//www.thearcfamilyinstitute.org//NONSGML kigkonsult.se iCalcreator 
 2.30.10//
CALSCALE:GREGORIAN
METHOD:PUBLISH
UID:0e3fbf23-12c2-4653-ad92-e9e980718106
X-WR-CALDESC:
X-WR-RELCALID:35949d624abeefc3e92172283ef5e21a
X-WR-TIMEZONE:America/New_York
BEGIN:VTIMEZONE
TZID:America/New_York
BEGIN:STANDARD
TZNAME:EST
DTSTART:20161106T020000
TZOFFSETFROM:-0400
TZOFFSETTO:-0500
RDATE:20171105T020000
END:STANDARD
BEGIN:DAYLIGHT
TZNAME:EDT
DTSTART:20170312T020000
TZOFFSETFROM:-0500
TZOFFSETTO:-0400
RDATE:20180311T020000
END:DAYLIGHT
END:VTIMEZONE
BEGIN:VEVENT
UID:1e397247-80cc-47eb-a066-d15bd32d8b70
DTSTAMP:20260424T122339Z
DESCRIPTION:
DTSTART;TZID=America/New_York:20170325T000000
DTEND;TZID=America/New_York:20170325T235900
LOCATION:
SUMMARY:College Prep Transition Conference at Rowan University
END:VEVENT
END:VCALENDAR
