BEGIN:VCALENDAR
VERSION:2.0
PRODID:-//www.thearcfamilyinstitute.org//NONSGML kigkonsult.se iCalcreator 
 2.30.10//
CALSCALE:GREGORIAN
METHOD:PUBLISH
UID:625fa14c-da14-42eb-a46a-70342b26dd80
X-WR-CALDESC:A conference for professionals highlighting best practices in 
 supporting people with disabilities in career planning\, customized employ
 ment\, and transition from school to work
X-WR-RELCALID:8bc0171f5bdc7d92e1ec89a47cc2360d
X-WR-TIMEZONE:America/New_York
BEGIN:VTIMEZONE
TZID:America/New_York
BEGIN:STANDARD
TZNAME:EST
DTSTART:20161106T020000
TZOFFSETFROM:-0400
TZOFFSETTO:-0500
RDATE:20171105T020000
END:STANDARD
BEGIN:DAYLIGHT
TZNAME:EDT
DTSTART:20170312T020000
TZOFFSETFROM:-0500
TZOFFSETTO:-0400
RDATE:20180311T020000
END:DAYLIGHT
END:VTIMEZONE
BEGIN:VEVENT
UID:93a1b184-8088-4ad3-8e1b-b8fe72150d2f
DTSTAMP:20260424T123420Z
DESCRIPTION:A conference for professionals highlighting best practices in s
 upporting people with disabilities in career planning\, customized employm
 ent\, and transition from school to work
DTSTART;TZID=America/New_York:20170324T080000
DTEND;TZID=America/New_York:20170324T160000
LOCATION:Hyatt Regency\, New Brunswick
SUMMARY:Facing the Future 25th Annual Conference To Employment and Beyond!
END:VEVENT
END:VCALENDAR
