BEGIN:VCALENDAR
VERSION:2.0
PRODID:-//www.thearcfamilyinstitute.org//NONSGML kigkonsult.se iCalcreator 
 2.30.10//
CALSCALE:GREGORIAN
METHOD:PUBLISH
UID:fe22f24e-6192-48b7-b4f3-96d98fd5f4f4
X-WR-CALDESC:
X-WR-RELCALID:b7a5b5e49083c83f1c98d0fa020f4f19
X-WR-TIMEZONE:America/New_York
BEGIN:VTIMEZONE
TZID:America/New_York
BEGIN:STANDARD
TZNAME:EST
DTSTART:20161106T020000
TZOFFSETFROM:-0400
TZOFFSETTO:-0500
RDATE:20171105T020000
END:STANDARD
BEGIN:DAYLIGHT
TZNAME:EDT
DTSTART:20170312T020000
TZOFFSETFROM:-0500
TZOFFSETTO:-0400
RDATE:20180311T020000
END:DAYLIGHT
END:VTIMEZONE
BEGIN:VEVENT
UID:a7e0d70f-0449-416f-b283-32db26b53bf7
DTSTAMP:20260424T124319Z
DESCRIPTION:
DTSTART;TZID=America/New_York:20170323T173000
DTEND;TZID=America/New_York:20170323T193000
LOCATION:The Arc Center: 1158 Wayside Road\, Tinton Falls\, NJ
SUMMARY:The Arc Monmouth: IEP Review
END:VEVENT
END:VCALENDAR
