BEGIN:VCALENDAR
VERSION:2.0
PRODID:-//www.thearcfamilyinstitute.org//NONSGML kigkonsult.se iCalcreator 
 2.30.10//
CALSCALE:GREGORIAN
METHOD:PUBLISH
UID:c768bb0c-6c98-4eac-8d51-731826c3414a
X-WR-CALDESC:Public policy and advocacy is most effective when families\, s
 elf-advocates and professionals work together. Join The Arc of New Jersey 
 Family Institute as we discuss the importance of becoming involved and way
 s to make a positive impact on policies at the national\, state and local 
 levels.
X-WR-RELCALID:bf9e9dd58118df99f6f0f5f64f9c0e6d
X-WR-TIMEZONE:America/New_York
BEGIN:VTIMEZONE
TZID:America/New_York
BEGIN:STANDARD
TZNAME:EST
DTSTART:20161106T020000
TZOFFSETFROM:-0400
TZOFFSETTO:-0500
RDATE:20171105T020000
END:STANDARD
BEGIN:DAYLIGHT
TZNAME:EDT
DTSTART:20170312T020000
TZOFFSETFROM:-0500
TZOFFSETTO:-0400
RDATE:20180311T020000
END:DAYLIGHT
END:VTIMEZONE
BEGIN:VEVENT
UID:01007c05-cd93-4291-907b-12c45353f923
DTSTAMP:20260424T123023Z
DESCRIPTION:Public policy and advocacy is most effective when families\, se
 lf-advocates and professionals work together. Join The Arc of New Jersey F
 amily Institute as we discuss the importance of becoming involved and ways
  to make a positive impact on policies at the national\, state and local l
 evels.
DTSTART;TZID=America/New_York:20170321T120000
DTEND;TZID=America/New_York:20170321T130000
LOCATION:
SUMMARY:Webinar: Lunch & Learn: Public Policy and Advocacy - A How-to Guide
END:VEVENT
END:VCALENDAR
