BEGIN:VCALENDAR
VERSION:2.0
PRODID:-//www.thearcfamilyinstitute.org//NONSGML kigkonsult.se iCalcreator 
 2.30.10//
CALSCALE:GREGORIAN
METHOD:PUBLISH
UID:1d22a742-86b8-449f-8fd3-f8472ba56eea
X-WR-CALDESC:
X-WR-RELCALID:8d6c38b98517d1f715d905a545cdbdf3
X-WR-TIMEZONE:America/New_York
BEGIN:VTIMEZONE
TZID:America/New_York
BEGIN:STANDARD
TZNAME:EST
DTSTART:20161106T020000
TZOFFSETFROM:-0400
TZOFFSETTO:-0500
RDATE:20171105T020000
END:STANDARD
BEGIN:DAYLIGHT
TZNAME:EDT
DTSTART:20170312T020000
TZOFFSETFROM:-0500
TZOFFSETTO:-0400
RDATE:20180311T020000
END:DAYLIGHT
END:VTIMEZONE
BEGIN:VEVENT
UID:53c7e6d5-b4b8-4f8c-bf02-f716482788ac
DTSTAMP:20260424T122248Z
DESCRIPTION:
DTSTART;TZID=America/New_York:20170318T100000
DTEND;TZID=America/New_York:20170318T130000
LOCATION:Edison Senior Center\, 2963 Woodbridge Ave.\, Edison\, 08817
SUMMARY:Middlesex County Disability Provider fair
END:VEVENT
END:VCALENDAR
