BEGIN:VCALENDAR
VERSION:2.0
PRODID:-//www.thearcfamilyinstitute.org//NONSGML kigkonsult.se iCalcreator 
 2.30.10//
CALSCALE:GREGORIAN
METHOD:PUBLISH
UID:2669f389-0d08-4335-bfdd-37b59edd4c86
X-WR-CALDESC:Dr. Acharya will review the most recent data about health care
  transition for adolescents and young adults with intellectual and develop
 mental disabilities (IDD). During the webinar\, she will describe standard
  of care for health care transition and highlight strategies to support th
 e transition to adult-centered health care for this population. \n\nDr. Ac
 harya is a board certified developmental and behavioral pediatrician and i
 nternist at the University of Illinois at Chicago and the director of the 
 Illinois Leadership Education in Neurodevelopmental Disabilities (LEND) Pr
 ogram. Dr. Acharya cares for individuals with developmental disabilities u
 sing a lifespan perspective from childhood to adulthood. She is particular
 ly interested in supporting adolescents and young adults with developmenta
 l disabilities as they transition to adult-systems of care and beyond.
X-WR-RELCALID:7af4e4717a9682b92de48bfa0f563cec
X-WR-TIMEZONE:America/New_York
BEGIN:VTIMEZONE
TZID:America/New_York
BEGIN:STANDARD
TZNAME:EST
DTSTART:20161106T020000
TZOFFSETFROM:-0400
TZOFFSETTO:-0500
RDATE:20171105T020000
END:STANDARD
BEGIN:DAYLIGHT
TZNAME:EDT
DTSTART:20170312T020000
TZOFFSETFROM:-0500
TZOFFSETTO:-0400
RDATE:20180311T020000
END:DAYLIGHT
END:VTIMEZONE
BEGIN:VEVENT
UID:35b7cbfb-e2a9-4657-b7ed-2c000ad5b7db
DTSTAMP:20260424T124501Z
DESCRIPTION:Dr. Acharya will review the most recent data about health care 
 transition for adolescents and young adults with intellectual and developm
 ental disabilities (IDD). During the webinar\, she will describe standard 
 of care for health care transition and highlight strategies to support the
  transition to adult-centered health care for this population. \n\nDr. Ach
 arya is a board certified developmental and behavioral pediatrician and in
 ternist at the University of Illinois at Chicago and the director of the I
 llinois Leadership Education in Neurodevelopmental Disabilities (LEND) Pro
 gram. Dr. Acharya cares for individuals with developmental disabilities us
 ing a lifespan perspective from childhood to adulthood. She is particularl
 y interested in supporting adolescents and young adults with developmental
  disabilities as they transition to adult-systems of care and beyond.
DTSTART;TZID=America/New_York:20170316T150000
DTEND;TZID=America/New_York:20170316T160000
LOCATION:
SUMMARY:Webinar: Transition of Young Adults with Developmental Disabilities
  to Adult-Systems of Care
END:VEVENT
END:VCALENDAR
