BEGIN:VCALENDAR
VERSION:2.0
PRODID:-//www.thearcfamilyinstitute.org//NONSGML kigkonsult.se iCalcreator 
 2.30.10//
CALSCALE:GREGORIAN
METHOD:PUBLISH
UID:5c3489a6-b914-450a-aa95-56a56402b366
X-WR-CALDESC:
X-WR-RELCALID:539a45432344511824f7892dbfbad629
X-WR-TIMEZONE:America/New_York
BEGIN:VTIMEZONE
TZID:America/New_York
BEGIN:STANDARD
TZNAME:EST
DTSTART:20161106T020000
TZOFFSETFROM:-0400
TZOFFSETTO:-0500
RDATE:20171105T020000
END:STANDARD
BEGIN:DAYLIGHT
TZNAME:EDT
DTSTART:20170312T020000
TZOFFSETFROM:-0500
TZOFFSETTO:-0400
RDATE:20180311T020000
END:DAYLIGHT
END:VTIMEZONE
BEGIN:VEVENT
UID:ddd21752-2aea-4841-985a-9d0148be1510
DTSTAMP:20260424T163317Z
DESCRIPTION:
DTSTART;TZID=America/New_York:20170316T180000
DTEND;TZID=America/New_York:20170316T210000
LOCATION:Paramus High School\, 145 Spring Valley Road\, Paramus\, 07652\, G
 PS- 99 East Century Road\, Paramus
SUMMARY:Transition Fair - Bergen County
END:VEVENT
END:VCALENDAR
