BEGIN:VCALENDAR
VERSION:2.0
PRODID:-//www.thearcfamilyinstitute.org//NONSGML kigkonsult.se iCalcreator 
 2.30.10//
CALSCALE:GREGORIAN
METHOD:PUBLISH
UID:bf1ddcb0-179d-441b-9f10-7109931d6582
X-WR-CALDESC:
X-WR-RELCALID:3a89ec52dc2396c366a3e49fc70f778e
X-WR-TIMEZONE:America/New_York
BEGIN:VTIMEZONE
TZID:America/New_York
BEGIN:STANDARD
TZNAME:EST
DTSTART:20161106T020000
TZOFFSETFROM:-0400
TZOFFSETTO:-0500
RDATE:20171105T020000
END:STANDARD
BEGIN:DAYLIGHT
TZNAME:EDT
DTSTART:20170312T020000
TZOFFSETFROM:-0500
TZOFFSETTO:-0400
RDATE:20180311T020000
END:DAYLIGHT
END:VTIMEZONE
BEGIN:VEVENT
UID:336b7b4d-d52e-41da-80b7-5970f09d77c2
DTSTAMP:20260424T124341Z
DESCRIPTION:
DTSTART;TZID=America/New_York:20170315T183000
DTEND;TZID=America/New_York:20170315T203000
LOCATION:
SUMMARY:Roundtable 'Discussion' and 'Attendee' Input'on 'Employment' and 'J
 ob' Sampling 'Services' and 'Opportunities
END:VEVENT
END:VCALENDAR
