BEGIN:VCALENDAR
VERSION:2.0
PRODID:-//www.thearcfamilyinstitute.org//NONSGML kigkonsult.se iCalcreator 
 2.30.10//
CALSCALE:GREGORIAN
METHOD:PUBLISH
UID:cd9847f9-7548-48a7-b123-dfc43c2dbf77
X-WR-CALDESC:The main goal of special education is simple: to prepare stude
 nts with disabilities for further education\, employment and independent l
 iving. In this webinar\, attendees will learn from the firm Hinkle\, Fingl
 es\, Prior & Fischer\, P.C.\, Attorneys at Law  how to engage in transitio
 n planning\, and secure services and supports needed for success. \n\nTopi
 cs will include: \nElements of transition planning \nConsiderations around
  graduation \nCommunity-based learning \nBehavioral supports for adults \n
 Guardianship\, Surrogate decision-making and voting rights \nOptions in hi
 gher education and adult services
X-WR-RELCALID:542d939feabc7c641e3a934c3f8459fd
X-WR-TIMEZONE:America/New_York
BEGIN:VTIMEZONE
TZID:America/New_York
BEGIN:STANDARD
TZNAME:EST
DTSTART:20161106T020000
TZOFFSETFROM:-0400
TZOFFSETTO:-0500
RDATE:20171105T020000
END:STANDARD
BEGIN:DAYLIGHT
TZNAME:EDT
DTSTART:20160313T020000
TZOFFSETFROM:-0500
TZOFFSETTO:-0400
RDATE:20170312T020000
RDATE:20180311T020000
END:DAYLIGHT
END:VTIMEZONE
BEGIN:VEVENT
UID:efe1b597-f508-4202-bfa8-b5932e9df202
DTSTAMP:20260424T124454Z
DESCRIPTION:The main goal of special education is simple: to prepare studen
 ts with disabilities for further education\, employment and independent li
 ving. In this webinar\, attendees will learn from the firm Hinkle\, Fingle
 s\, Prior & Fischer\, P.C.\, Attorneys at Law  how to engage in transition
  planning\, and secure services and supports needed for success. \n\nTopic
 s will include: \nElements of transition planning \nConsiderations around 
 graduation \nCommunity-based learning \nBehavioral supports for adults \nG
 uardianship\, Surrogate decision-making and voting rights \nOptions in hig
 her education and adult services
DTSTART;TZID=America/New_York:20170313T180000
DTEND;TZID=America/New_York:20170313T190000
LOCATION:
SUMMARY:Webinar: Transition from School to Adult Life Building Supports for
  Independence for Teens with Disabilities
END:VEVENT
END:VCALENDAR
