BEGIN:VCALENDAR
VERSION:2.0
PRODID:-//www.thearcfamilyinstitute.org//NONSGML kigkonsult.se iCalcreator 
 2.30.10//
CALSCALE:GREGORIAN
METHOD:PUBLISH
UID:ad48fff9-823c-4145-be9d-2467fea77703
X-WR-CALDESC:
X-WR-RELCALID:4a1cf508f3f56d21b4055a6f476aab77
X-WR-TIMEZONE:America/New_York
BEGIN:VTIMEZONE
TZID:America/New_York
BEGIN:STANDARD
TZNAME:EST
DTSTART:20161106T020000
TZOFFSETFROM:-0400
TZOFFSETTO:-0500
RDATE:20171105T020000
END:STANDARD
BEGIN:DAYLIGHT
TZNAME:EDT
DTSTART:20160313T020000
TZOFFSETFROM:-0500
TZOFFSETTO:-0400
RDATE:20170312T020000
RDATE:20180311T020000
END:DAYLIGHT
END:VTIMEZONE
BEGIN:VEVENT
UID:36cad02c-2c15-47e4-a536-1c9a5c8ec51d
DTSTAMP:20260424T122253Z
DESCRIPTION:
DTSTART;TZID=America/New_York:20170313T183000
DTEND;TZID=America/New_York:20170313T203000
LOCATION:Camden County Family Support Organization\, 23 West Park Avenue\, 
 Suites 103-104\, Merchantville\, NJ 08109
SUMMARY:Camden County: Total Transformation
END:VEVENT
END:VCALENDAR
