BEGIN:VCALENDAR
VERSION:2.0
PRODID:-//www.thearcfamilyinstitute.org//NONSGML kigkonsult.se iCalcreator 
 2.30.10//
CALSCALE:GREGORIAN
METHOD:PUBLISH
UID:ac9772a3-8c33-4e90-bc07-2a315e3ba19c
X-WR-CALDESC:Sibchats are a cross between a webinar and a conference call t
 hat provides a space for adult siblings to listen in to other adult siblin
 gs as peers in order to discuss relevant topics. Unlike a webinar where th
 ere is primarily one presenter\, this is more of a comfortable discussion 
 among a handful of siblings that allows sibs to listen\, ask questions\, r
 eceive peer support and information\, and or share their own thoughts.
X-WR-RELCALID:350133c82d77b6266c6c74e24ef9b2d4
X-WR-TIMEZONE:America/New_York
BEGIN:VTIMEZONE
TZID:America/New_York
BEGIN:STANDARD
TZNAME:EST
DTSTART:20161106T020000
TZOFFSETFROM:-0400
TZOFFSETTO:-0500
RDATE:20171105T020000
END:STANDARD
BEGIN:DAYLIGHT
TZNAME:EDT
DTSTART:20160313T020000
TZOFFSETFROM:-0500
TZOFFSETTO:-0400
RDATE:20170312T020000
RDATE:20180311T020000
END:DAYLIGHT
END:VTIMEZONE
BEGIN:VEVENT
UID:4200ff49-2a4a-4156-8cc5-87af71af3e24
DTSTAMP:20260424T122911Z
DESCRIPTION:Sibchats are a cross between a webinar and a conference call th
 at provides a space for adult siblings to listen in to other adult sibling
 s as peers in order to discuss relevant topics. Unlike a webinar where the
 re is primarily one presenter\, this is more of a comfortable discussion a
 mong a handful of siblings that allows sibs to listen\, ask questions\, re
 ceive peer support and information\, and or share their own thoughts.
DTSTART;TZID=America/New_York:20170312T190000
DTEND;TZID=America/New_York:20170312T200000
LOCATION:
SUMMARY:Sibchats: Sibling support and advocacy
END:VEVENT
END:VCALENDAR
