BEGIN:VCALENDAR
VERSION:2.0
PRODID:-//www.thearcfamilyinstitute.org//NONSGML kigkonsult.se iCalcreator 
 2.30.10//
CALSCALE:GREGORIAN
METHOD:PUBLISH
UID:dc9bbc4d-bc98-446f-ba5f-4fb65701a7f5
X-WR-CALDESC:
X-WR-RELCALID:21dcd82b2912248c0880263b1a7087aa
X-WR-TIMEZONE:America/New_York
BEGIN:VTIMEZONE
TZID:America/New_York
BEGIN:STANDARD
TZNAME:EST
DTSTART:20161106T020000
TZOFFSETFROM:-0400
TZOFFSETTO:-0500
RDATE:20171105T020000
END:STANDARD
BEGIN:DAYLIGHT
TZNAME:EDT
DTSTART:20160313T020000
TZOFFSETFROM:-0500
TZOFFSETTO:-0400
RDATE:20170312T020000
RDATE:20180311T020000
END:DAYLIGHT
END:VTIMEZONE
BEGIN:VEVENT
UID:c74c7ab6-8038-4145-ac94-08fdd220df3e
DTSTAMP:20260424T124040Z
DESCRIPTION:
DTSTART;TZID=America/New_York:20170309T100000
DTEND;TZID=America/New_York:20170309T120000
LOCATION:
SUMMARY:Getting Ready for College: Post-Secondary Options for Individuals w
 ith Developmental and/or Intellectual Disabilities
END:VEVENT
END:VCALENDAR
