BEGIN:VCALENDAR
VERSION:2.0
PRODID:-//www.thearcfamilyinstitute.org//NONSGML kigkonsult.se iCalcreator 
 2.30.10//
CALSCALE:GREGORIAN
METHOD:PUBLISH
UID:5ebe478d-53ab-4c29-8648-c91f1ab22f11
X-WR-CALDESC:
X-WR-RELCALID:f15816294796c14478b1d81b6fc86918
X-WR-TIMEZONE:America/New_York
BEGIN:VTIMEZONE
TZID:America/New_York
BEGIN:STANDARD
TZNAME:EST
DTSTART:20161106T020000
TZOFFSETFROM:-0400
TZOFFSETTO:-0500
RDATE:20171105T020000
END:STANDARD
BEGIN:DAYLIGHT
TZNAME:EDT
DTSTART:20160313T020000
TZOFFSETFROM:-0500
TZOFFSETTO:-0400
RDATE:20170312T020000
RDATE:20180311T020000
END:DAYLIGHT
END:VTIMEZONE
BEGIN:VEVENT
UID:cc0fa88a-f64e-482c-a881-acb8fc9de6f1
DTSTAMP:20260424T124543Z
DESCRIPTION:
DTSTART;TZID=America/New_York:20170304T083000
DTEND;TZID=America/New_York:20170304T130000
LOCATION:Best Western Robert Treat Hotel\, 50 Park Place Newark\, 07102
SUMMARY:Planning For Adult Life FREE Parent Forum and Opportunity Expo - Es
 sex County
END:VEVENT
END:VCALENDAR
