BEGIN:VCALENDAR
VERSION:2.0
PRODID:-//www.thearcfamilyinstitute.org//NONSGML kigkonsult.se iCalcreator 
 2.30.10//
CALSCALE:GREGORIAN
METHOD:PUBLISH
UID:c61c1116-eb15-449a-ba70-6b81cc991d29
X-WR-CALDESC:The 115th Congress convened with many Members pushing for an a
 mbitious agenda to repeal or cut many critical programs that people with d
 isabilities rely on for their health and wellbeing.  Health care\, Medicai
 d\, and the Supplemental Security Income (SSI) program could all be on the
  chopping block.\n\nGet up to date and take action! Please join The Arc's 
 policy staff to learn about latest developments on Capitol Hill and what a
 dvocates must do to protect the Lifeline for people with disabilities:\n\n
 What: Webinar for disability advocates.  The webinar is open to the public
 \, but will be limited to the first 150 registrants.
X-WR-RELCALID:dea0b1c4e5903e0dcbb608e0547cb7d7
X-WR-TIMEZONE:America/New_York
BEGIN:VTIMEZONE
TZID:America/New_York
BEGIN:STANDARD
TZNAME:EST
DTSTART:20161106T020000
TZOFFSETFROM:-0400
TZOFFSETTO:-0500
RDATE:20171105T020000
END:STANDARD
BEGIN:DAYLIGHT
TZNAME:EDT
DTSTART:20160313T020000
TZOFFSETFROM:-0500
TZOFFSETTO:-0400
RDATE:20170312T020000
RDATE:20180311T020000
END:DAYLIGHT
END:VTIMEZONE
BEGIN:VEVENT
UID:d0001f54-f923-4075-95cb-10ef8a47947f
DTSTAMP:20260424T135938Z
DESCRIPTION:The 115th Congress convened with many Members pushing for an am
 bitious agenda to repeal or cut many critical programs that people with di
 sabilities rely on for their health and wellbeing.  Health care\, Medicaid
 \, and the Supplemental Security Income (SSI) program could all be on the 
 chopping block.\n\nGet up to date and take action! Please join The Arc's p
 olicy staff to learn about latest developments on Capitol Hill and what ad
 vocates must do to protect the Lifeline for people with disabilities:\n\nW
 hat: Webinar for disability advocates.  The webinar is open to the public\
 , but will be limited to the first 150 registrants.
DTSTART;TZID=America/New_York:20170223T150000
DTEND;TZID=America/New_York:20170223T160000
LOCATION:
SUMMARY:Webinar: Protecting Health Care\, Medicaid\, SSI and more
END:VEVENT
END:VCALENDAR
