BEGIN:VCALENDAR
VERSION:2.0
PRODID:-//www.thearcfamilyinstitute.org//NONSGML kigkonsult.se iCalcreator 
 2.30.10//
CALSCALE:GREGORIAN
METHOD:PUBLISH
UID:81281d48-04cd-42e9-a67b-d74cc089b1fb
X-WR-CALDESC:Using the holistic model of sexuality\, we will discuss the se
 xuality related needs and desires of people with I/DD and the impact sexua
 l violence has on these needs. We will also focus on the importance of tak
 ing an interdisciplinary approach in addressing these specialized needs. 
 \n\nThis webinar series is brought to you by The Arc of NJ Criminal Justic
 e Advocacy Program in partnership with New Jersey Association for Treatmen
 t and Sexual Abusers\; made possible by the NJ State Bar Foundation with f
 unding from the IOLTA fund of the Bar New Jersey. For additional informati
 on about the Foundation's other law related activities\, please call 1-800
 -FREELAW
X-WR-RELCALID:4be8b3c445fc34b84dced4be0910e352
X-WR-TIMEZONE:America/New_York
BEGIN:VTIMEZONE
TZID:America/New_York
BEGIN:STANDARD
TZNAME:EST
DTSTART:20161106T020000
TZOFFSETFROM:-0400
TZOFFSETTO:-0500
RDATE:20171105T020000
END:STANDARD
BEGIN:DAYLIGHT
TZNAME:EDT
DTSTART:20160313T020000
TZOFFSETFROM:-0500
TZOFFSETTO:-0400
RDATE:20170312T020000
RDATE:20180311T020000
END:DAYLIGHT
END:VTIMEZONE
BEGIN:VEVENT
UID:fcb00660-b13a-46ab-93ff-e96e889469c4
DTSTAMP:20260424T135907Z
DESCRIPTION:Using the holistic model of sexuality\, we will discuss the sex
 uality related needs and desires of people with I/DD and the impact sexual
  violence has on these needs. We will also focus on the importance of taki
 ng an interdisciplinary approach in addressing these specialized needs. \n
 \nThis webinar series is brought to you by The Arc of NJ Criminal Justice 
 Advocacy Program in partnership with New Jersey Association for Treatment 
 and Sexual Abusers\; made possible by the NJ State Bar Foundation with fun
 ding from the IOLTA fund of the Bar New Jersey. For additional information
  about the Foundation's other law related activities\, please call 1-800-F
 REELAW
DTSTART;TZID=America/New_York:20170223T130000
DTEND;TZID=America/New_York:20170223T140000
LOCATION:
SUMMARY:Webinar: It Takes a Village! Exploring the Intersection Between Sex
 ual Violence and Sexuality Related Needs for People with I/DD
END:VEVENT
END:VCALENDAR
