BEGIN:VCALENDAR
VERSION:2.0
PRODID:-//www.thearcfamilyinstitute.org//NONSGML kigkonsult.se iCalcreator 
 2.30.10//
CALSCALE:GREGORIAN
METHOD:PUBLISH
UID:c54817c4-34a2-4e74-b230-916877a7f363
X-WR-CALDESC:
X-WR-RELCALID:de34371e10ba1bf684a58a9e5e8e64f6
X-WR-TIMEZONE:America/New_York
BEGIN:VTIMEZONE
TZID:America/New_York
BEGIN:STANDARD
TZNAME:EST
DTSTART:20161106T020000
TZOFFSETFROM:-0400
TZOFFSETTO:-0500
RDATE:20171105T020000
END:STANDARD
BEGIN:DAYLIGHT
TZNAME:EDT
DTSTART:20160313T020000
TZOFFSETFROM:-0500
TZOFFSETTO:-0400
RDATE:20170312T020000
RDATE:20180311T020000
END:DAYLIGHT
END:VTIMEZONE
BEGIN:VEVENT
UID:3d651783-e0e8-4cfd-809a-3300309caa12
DTSTAMP:20260424T140029Z
DESCRIPTION:
DTSTART;TZID=America/New_York:20170223T173000
DTEND;TZID=America/New_York:20170223T193000
LOCATION:The Arc Center: 1158 Wayside Road\, Tinton Falls\, NJ
SUMMARY:The Arc Monmouth: IEP Review
END:VEVENT
END:VCALENDAR
