BEGIN:VCALENDAR
VERSION:2.0
PRODID:-//www.thearcfamilyinstitute.org//NONSGML kigkonsult.se iCalcreator 
 2.30.10//
CALSCALE:GREGORIAN
METHOD:PUBLISH
UID:e04c7782-0d9a-4b21-91ce-116447e6555d
X-WR-CALDESC:
X-WR-RELCALID:97039e252d3a5d000832d69ed9335d34
X-WR-TIMEZONE:America/New_York
BEGIN:VTIMEZONE
TZID:America/New_York
BEGIN:STANDARD
TZNAME:EST
DTSTART:20161106T020000
TZOFFSETFROM:-0400
TZOFFSETTO:-0500
RDATE:20171105T020000
END:STANDARD
BEGIN:DAYLIGHT
TZNAME:EDT
DTSTART:20160313T020000
TZOFFSETFROM:-0500
TZOFFSETTO:-0400
RDATE:20170312T020000
RDATE:20180311T020000
END:DAYLIGHT
END:VTIMEZONE
BEGIN:VEVENT
UID:4132c4a3-ff9c-4483-84e5-dc5b13170c7e
DTSTAMP:20260424T135257Z
DESCRIPTION:
DTSTART;TZID=America/New_York:20170222T180000
DTEND;TZID=America/New_York:20170222T203000
LOCATION:St. John of God Community Church\, 1145 Delsea Drive Westville Gro
 ve\, NJ 08093
SUMMARY:Provider Fair
END:VEVENT
END:VCALENDAR
