BEGIN:VCALENDAR
VERSION:2.0
PRODID:-//www.thearcfamilyinstitute.org//NONSGML kigkonsult.se iCalcreator 
 2.30.10//
CALSCALE:GREGORIAN
METHOD:PUBLISH
UID:f5d103f0-685b-430f-b8d1-66644caa590c
X-WR-CALDESC:Join us as we discuss different college options for individual
 s with intellectual and developmental disabilities (I/DD). We will look at
  the different programs offered in New Jersey\, options for scholarships a
 nd possible ways to pay for college. We will share with you examples on ho
 w to write goals for post secondary options when working with the Child St
 udy Team to create a transition plan.
X-WR-RELCALID:dbf3e264fb42396c72a51e91f88035ba
X-WR-TIMEZONE:America/New_York
BEGIN:VTIMEZONE
TZID:America/New_York
BEGIN:STANDARD
TZNAME:EST
DTSTART:20161106T020000
TZOFFSETFROM:-0400
TZOFFSETTO:-0500
RDATE:20171105T020000
END:STANDARD
BEGIN:DAYLIGHT
TZNAME:EDT
DTSTART:20160313T020000
TZOFFSETFROM:-0500
TZOFFSETTO:-0400
RDATE:20170312T020000
RDATE:20180311T020000
END:DAYLIGHT
END:VTIMEZONE
BEGIN:VEVENT
UID:58787058-f717-4d3f-8936-90598d9ed43d
DTSTAMP:20260424T135219Z
DESCRIPTION:Join us as we discuss different college options for individuals
  with intellectual and developmental disabilities (I/DD). We will look at 
 the different programs offered in New Jersey\, options for scholarships an
 d possible ways to pay for college. We will share with you examples on how
  to write goals for post secondary options when working with the Child Stu
 dy Team to create a transition plan.
DTSTART;TZID=America/New_York:20170221T120000
DTEND;TZID=America/New_York:20170221T130000
LOCATION:
SUMMARY:Webinar: Lunch & Learn: Post-Secondary Options for Students with De
 velopmental Disabilities
END:VEVENT
END:VCALENDAR
