BEGIN:VCALENDAR
VERSION:2.0
PRODID:-//www.thearcfamilyinstitute.org//NONSGML kigkonsult.se iCalcreator 
 2.30.10//
CALSCALE:GREGORIAN
METHOD:PUBLISH
UID:d2bee34d-565b-44fb-9b92-b3c7a58e0d8c
X-WR-CALDESC:Many organizations are seeing the aging of their clientele and
  their numbers increase\, and concerns are growing about how to deal with 
 age-associated effects evidenced with aging. One such age-associated condi
 tion\, Alzheimer's disease (and related dementias)\, affects a significant
  number of adults with Down syndrome (about 65% of adults age more than 60
 ) and a proportional number of adults with other causes of intellectual di
 sability (about 6% of adults age more than 60). Many at-risk adults live o
 n their own or with friends\, and many affected adults live in small commu
 nity group homes or with their families. How to provide sound and responsi
 ve community care is becoming a challenge for agencies faced with an incre
 asing number of such affected adults. This webinar covers key elements of 
 dementia and how it affects adults with intellectual disabilities\, provid
 es a brief overview of screening and assessment strategies and methods\, a
 nd examines ways that organizations can employ to adapt their current serv
 ices to make them dementia capable. Specifically covered are the elements 
 and types of dementia\, as well its onset\, duration and effect\, and tech
 niques for adapting environments\, aiding with staff interactions and comm
 unication\, as well as challenges to active and supportive programming. Mo
 dels for supports depending on the stage of dementia are also discussed\, 
 as are training foci areas and community care models that provide for 'dem
 entia capable' supports and services. Special attention is given to the us
 e of group homes as a viable community care model. \n\nMatthew P. Janicki\
 , Ph.D. is the co-chair of the US National Task Group on Intellectual Disa
 bilities and Dementia Practices\, research associate professor in the Depa
 rtment of Disability and Human Development at the University of Illinois a
 t Chicago and Director for Technical Assistance for the Rehabilitation Res
 earch and Training Center on Developmental Disabilities and Health (RRTCDD
 ) at the University.
X-WR-RELCALID:464b74aeb98420b4c2c9705525487c86
X-WR-TIMEZONE:America/New_York
BEGIN:VTIMEZONE
TZID:America/New_York
BEGIN:STANDARD
TZNAME:EST
DTSTART:20161106T020000
TZOFFSETFROM:-0400
TZOFFSETTO:-0500
RDATE:20171105T020000
END:STANDARD
BEGIN:DAYLIGHT
TZNAME:EDT
DTSTART:20160313T020000
TZOFFSETFROM:-0500
TZOFFSETTO:-0400
RDATE:20170312T020000
RDATE:20180311T020000
END:DAYLIGHT
END:VTIMEZONE
BEGIN:VEVENT
UID:8f858718-14eb-4e0b-a5d4-4416cac71ada
DTSTAMP:20260424T135856Z
DESCRIPTION:Many organizations are seeing the aging of their clientele and 
 their numbers increase\, and concerns are growing about how to deal with a
 ge-associated effects evidenced with aging. One such age-associated condit
 ion\, Alzheimer's disease (and related dementias)\, affects a significant 
 number of adults with Down syndrome (about 65% of adults age more than 60)
  and a proportional number of adults with other causes of intellectual dis
 ability (about 6% of adults age more than 60). Many at-risk adults live on
  their own or with friends\, and many affected adults live in small commun
 ity group homes or with their families. How to provide sound and responsiv
 e community care is becoming a challenge for agencies faced with an increa
 sing number of such affected adults. This webinar covers key elements of d
 ementia and how it affects adults with intellectual disabilities\, provide
 s a brief overview of screening and assessment strategies and methods\, an
 d examines ways that organizations can employ to adapt their current servi
 ces to make them dementia capable. Specifically covered are the elements a
 nd types of dementia\, as well its onset\, duration and effect\, and techn
 iques for adapting environments\, aiding with staff interactions and commu
 nication\, as well as challenges to active and supportive programming. Mod
 els for supports depending on the stage of dementia are also discussed\, a
 s are training foci areas and community care models that provide for 'deme
 ntia capable' supports and services. Special attention is given to the use
  of group homes as a viable community care model. \n\nMatthew P. Janicki\,
  Ph.D. is the co-chair of the US National Task Group on Intellectual Disab
 ilities and Dementia Practices\, research associate professor in the Depar
 tment of Disability and Human Development at the University of Illinois at
  Chicago and Director for Technical Assistance for the Rehabilitation Rese
 arch and Training Center on Developmental Disabilities and Health (RRTCDD)
  at the University.
DTSTART;TZID=America/New_York:20170216T150000
DTEND;TZID=America/New_York:20170216T160000
LOCATION:
SUMMARY:Webinar: Aging and Dementia Care for People with Intellectual Disab
 ilities
END:VEVENT
END:VCALENDAR
