BEGIN:VCALENDAR
VERSION:2.0
PRODID:-//www.thearcfamilyinstitute.org//NONSGML kigkonsult.se iCalcreator 
 2.30.10//
CALSCALE:GREGORIAN
METHOD:PUBLISH
UID:d5e97743-21f5-40f3-b9cd-f4e19b588f17
X-WR-CALDESC:FSO and REACH Beyond Therapy are proud to present: 'Everyday T
 echnologies That Support Students with Disabilities' presented by Fred Tch
 ang\, BSE. ATP\, Director of Assistive Technology Services\, Advancing Opp
 ortunities. This workshop will demonstrate various technologies that accom
 modate students with disabilities. Attendees will have the opportunity to 
 have first hand experience of the technologies.
X-WR-RELCALID:ac55a5515bca4d9a18e43997349fc03b
X-WR-TIMEZONE:America/New_York
BEGIN:VTIMEZONE
TZID:America/New_York
BEGIN:STANDARD
TZNAME:EST
DTSTART:20161106T020000
TZOFFSETFROM:-0400
TZOFFSETTO:-0500
RDATE:20171105T020000
END:STANDARD
BEGIN:DAYLIGHT
TZNAME:EDT
DTSTART:20160313T020000
TZOFFSETFROM:-0500
TZOFFSETTO:-0400
RDATE:20170312T020000
RDATE:20180311T020000
END:DAYLIGHT
END:VTIMEZONE
BEGIN:VEVENT
UID:b613b9c5-9085-4588-b628-2ff52870b04e
DTSTAMP:20260424T135313Z
DESCRIPTION:FSO and REACH Beyond Therapy are proud to present: 'Everyday Te
 chnologies That Support Students with Disabilities' presented by Fred Tcha
 ng\, BSE. ATP\, Director of Assistive Technology Services\, Advancing Oppo
 rtunities. This workshop will demonstrate various technologies that accomm
 odate students with disabilities. Attendees will have the opportunity to h
 ave first hand experience of the technologies.
DTSTART;TZID=America/New_York:20170216T180000
DTEND;TZID=America/New_York:20170216T200000
LOCATION:REACH Beyond Therapy 466 Route 12\, Flemington\, NJ
SUMMARY:Everyday Technologies That Support Students with Disabilities
END:VEVENT
END:VCALENDAR
