BEGIN:VCALENDAR
VERSION:2.0
PRODID:-//www.thearcfamilyinstitute.org//NONSGML kigkonsult.se iCalcreator 
 2.30.10//
CALSCALE:GREGORIAN
METHOD:PUBLISH
UID:a0af14d9-20e9-495c-b8ba-ff2c2def795c
X-WR-CALDESC:This “Meet and Greet” event co-sponsored by the Arc of Bergen-
 Passaic Counties and the BCSS CAPE Resource Center on Thursday\, February 
 16\, 2017\, 6 – 8pm is a great way for families to talk to day program pro
 viders. Additionally\, Kathy Walsh\, CEO/President and Alice Siegel Senior
  Vice President of the Arc of Bergen and Passaic Counties will provide an 
 overview of the NJ CAT – What it is and How it Impacts on Services. See at
 tached flyer for details.
X-WR-RELCALID:69a016092162b09994d0e26eaecfb2bd
X-WR-TIMEZONE:America/New_York
BEGIN:VTIMEZONE
TZID:America/New_York
BEGIN:STANDARD
TZNAME:EST
DTSTART:20161106T020000
TZOFFSETFROM:-0400
TZOFFSETTO:-0500
RDATE:20171105T020000
END:STANDARD
BEGIN:DAYLIGHT
TZNAME:EDT
DTSTART:20160313T020000
TZOFFSETFROM:-0500
TZOFFSETTO:-0400
RDATE:20170312T020000
RDATE:20180311T020000
END:DAYLIGHT
END:VTIMEZONE
BEGIN:VEVENT
UID:03007eb7-1ba6-4f41-8d42-3409959714b4
DTSTAMP:20260424T135344Z
DESCRIPTION:This “Meet and Greet” event co-sponsored by the Arc of Bergen-P
 assaic Counties and the BCSS CAPE Resource Center on Thursday\, February 1
 6\, 2017\, 6 – 8pm is a great way for families to talk to day program prov
 iders. Additionally\, Kathy Walsh\, CEO/President and Alice Siegel Senior 
 Vice President of the Arc of Bergen and Passaic Counties will provide an o
 verview of the NJ CAT – What it is and How it Impacts on Services. See att
 ached flyer for details.
DTSTART;TZID=America/New_York:20170216T180000
DTEND;TZID=America/New_York:20170216T200000
LOCATION:N. A. Bleshman Regional Day School\, 333 East Ridgewood Avenue\, P
 aramus\, 07652
SUMMARY:Day Program Meet and Greet Transition Fair for Graduates (Paramus)
END:VEVENT
END:VCALENDAR
