BEGIN:VCALENDAR
VERSION:2.0
PRODID:-//www.thearcfamilyinstitute.org//NONSGML kigkonsult.se iCalcreator 
 2.30.10//
CALSCALE:GREGORIAN
METHOD:PUBLISH
UID:c0355c63-ac0a-443c-9757-00f0b879b623
X-WR-CALDESC:All are welcome for this FREE workshop\; refreshments are prov
 ided and families are welcome to have their children sit with them in orde
 r to attend if they wish.
X-WR-RELCALID:0ef14ed45191d3459b64480caa6685e7
X-WR-TIMEZONE:America/New_York
BEGIN:VTIMEZONE
TZID:America/New_York
BEGIN:STANDARD
TZNAME:EST
DTSTART:20161106T020000
TZOFFSETFROM:-0400
TZOFFSETTO:-0500
RDATE:20171105T020000
END:STANDARD
BEGIN:DAYLIGHT
TZNAME:EDT
DTSTART:20160313T020000
TZOFFSETFROM:-0500
TZOFFSETTO:-0400
RDATE:20170312T020000
RDATE:20180311T020000
END:DAYLIGHT
END:VTIMEZONE
BEGIN:VEVENT
UID:929673ea-7544-4699-93d0-a6aea7098761
DTSTAMP:20260424T140029Z
DESCRIPTION:All are welcome for this FREE workshop\; refreshments are provi
 ded and families are welcome to have their children sit with them in order
  to attend if they wish.
DTSTART;TZID=America/New_York:20170216T183000
DTEND;TZID=America/New_York:20170216T193000
LOCATION:1137 Globe Ave\, Mountainside\, NJ 07092
SUMMARY:Arc Kohler School: How Do I Choose a Summer Camp?
END:VEVENT
END:VCALENDAR
