BEGIN:VCALENDAR
VERSION:2.0
PRODID:-//www.thearcfamilyinstitute.org//NONSGML kigkonsult.se iCalcreator 
 2.30.10//
CALSCALE:GREGORIAN
METHOD:PUBLISH
UID:29e5e1aa-1fa4-4fc1-85f8-5b4eef4fa94a
X-WR-CALDESC:In order to receive services funded by DDD\, an individual mus
 t apply to become eligible outlined in state law. Join us as James Schiral
 li of the Division of Developmental Disabilities will discuss and explain 
 the eligibility criteria. James will discuss the steps of the intake proce
 ss\, necessary documents need in the intake packet\, and things you need t
 o know about the application. This webinar is geared for students\, their 
 families\, and professionals in the field.
X-WR-RELCALID:dd3a86f2f6d909c0041d366f2418a933
X-WR-TIMEZONE:America/New_York
BEGIN:VTIMEZONE
TZID:America/New_York
BEGIN:STANDARD
TZNAME:EST
DTSTART:20161106T020000
TZOFFSETFROM:-0400
TZOFFSETTO:-0500
RDATE:20171105T020000
END:STANDARD
BEGIN:DAYLIGHT
TZNAME:EDT
DTSTART:20160313T020000
TZOFFSETFROM:-0500
TZOFFSETTO:-0400
RDATE:20170312T020000
RDATE:20180311T020000
END:DAYLIGHT
END:VTIMEZONE
BEGIN:VEVENT
UID:2dc59123-7b5a-4ea8-8420-71e67d8794b4
DTSTAMP:20260424T135711Z
DESCRIPTION:In order to receive services funded by DDD\, an individual must
  apply to become eligible outlined in state law. Join us as James Schirall
 i of the Division of Developmental Disabilities will discuss and explain t
 he eligibility criteria. James will discuss the steps of the intake proces
 s\, necessary documents need in the intake packet\, and things you need to
  know about the application. This webinar is geared for students\, their f
 amilies\, and professionals in the field.
DTSTART;TZID=America/New_York:20170215T180000
DTEND;TZID=America/New_York:20170215T190000
LOCATION:
SUMMARY:Webinar: How to Use the Person-Centered Planning Tool as a Roadmap 
 to Services
END:VEVENT
END:VCALENDAR
