BEGIN:VCALENDAR
VERSION:2.0
PRODID:-//www.thearcfamilyinstitute.org//NONSGML kigkonsult.se iCalcreator 
 2.30.10//
CALSCALE:GREGORIAN
METHOD:PUBLISH
UID:f1de9dbe-a40f-490e-a7aa-eb8b9a9d3ef6
X-WR-CALDESC:Calling all students with intellectual and developmental disab
 ilities and their families. \n\nJoin The Arc of New Jersey Family Institut
 e for a tour of Brookdale Community College and learn more about the Keep 
 Achieving (Kach) at Brookdale program. \n\nThe Arc of Monmouth has collabo
 rated with Brookdale Community College to address the needs of transitioni
 ng young adults with intellectual and developmental disabilities ages 18 –
  26. Kach provides a variety of classroom and experiential learning at the
  college and in the community. \n\nSpace is limited to 20 families.
X-WR-RELCALID:a3bea3ef454a98e0f4679e1e30530814
X-WR-TIMEZONE:America/New_York
BEGIN:VTIMEZONE
TZID:America/New_York
BEGIN:STANDARD
TZNAME:EST
DTSTART:20161106T020000
TZOFFSETFROM:-0400
TZOFFSETTO:-0500
RDATE:20171105T020000
END:STANDARD
BEGIN:DAYLIGHT
TZNAME:EDT
DTSTART:20160313T020000
TZOFFSETFROM:-0500
TZOFFSETTO:-0400
RDATE:20170312T020000
RDATE:20180311T020000
END:DAYLIGHT
END:VTIMEZONE
BEGIN:VEVENT
UID:2b83e7d3-db84-410e-854f-7bff2c0f593e
DTSTAMP:20260424T135820Z
DESCRIPTION:Calling all students with intellectual and developmental disabi
 lities and their families. \n\nJoin The Arc of New Jersey Family Institute
  for a tour of Brookdale Community College and learn more about the Keep A
 chieving (Kach) at Brookdale program. \n\nThe Arc of Monmouth has collabor
 ated with Brookdale Community College to address the needs of transitionin
 g young adults with intellectual and developmental disabilities ages 18 – 
 26. Kach provides a variety of classroom and experiential learning at the 
 college and in the community. \n\nSpace is limited to 20 families.
DTSTART;TZID=America/New_York:20170210T100000
DTEND;TZID=America/New_York:20170210T123000
LOCATION:765 Newman Springs Road\, Lincroft\, NJ 07738
SUMMARY:Tour of Keep Achieving (Kach) at Brookdale
END:VEVENT
END:VCALENDAR
