BEGIN:VCALENDAR
VERSION:2.0
PRODID:-//www.thearcfamilyinstitute.org//NONSGML kigkonsult.se iCalcreator 
 2.30.10//
CALSCALE:GREGORIAN
METHOD:PUBLISH
UID:3b023525-f27c-45aa-8f7a-cfb37d99970b
X-WR-CALDESC:Register using the link below.
X-WR-RELCALID:999152c7005dfb92c067d0c742411d88
X-WR-TIMEZONE:America/New_York
BEGIN:VTIMEZONE
TZID:America/New_York
BEGIN:STANDARD
TZNAME:EST
DTSTART:20161106T020000
TZOFFSETFROM:-0400
TZOFFSETTO:-0500
RDATE:20171105T020000
END:STANDARD
BEGIN:DAYLIGHT
TZNAME:EDT
DTSTART:20160313T020000
TZOFFSETFROM:-0500
TZOFFSETTO:-0400
RDATE:20170312T020000
RDATE:20180311T020000
END:DAYLIGHT
END:VTIMEZONE
BEGIN:VEVENT
UID:f2130b6a-c5ca-4960-8d49-3679f099d893
DTSTAMP:20260424T140111Z
DESCRIPTION:Register using the link below.
DTSTART;TZID=America/New_York:20170209T180000
DTEND;TZID=America/New_York:20170209T190000
LOCATION:
SUMMARY:Webinar: Out Of District Placement: Know Your Rights and How To Obt
 ain The Best Placement for Your Child
END:VEVENT
END:VCALENDAR
