BEGIN:VCALENDAR
VERSION:2.0
PRODID:-//www.thearcfamilyinstitute.org//NONSGML kigkonsult.se iCalcreator 
 2.30.10//
CALSCALE:GREGORIAN
METHOD:PUBLISH
UID:b1ccc475-3148-41a3-8205-e4a887795303
X-WR-CALDESC:Free and open to the public.
X-WR-RELCALID:b4d980c1801f52b18a29dd9eef19ed8c
X-WR-TIMEZONE:America/New_York
BEGIN:VTIMEZONE
TZID:America/New_York
BEGIN:STANDARD
TZNAME:EST
DTSTART:20161106T020000
TZOFFSETFROM:-0400
TZOFFSETTO:-0500
RDATE:20171105T020000
END:STANDARD
BEGIN:DAYLIGHT
TZNAME:EDT
DTSTART:20160313T020000
TZOFFSETFROM:-0500
TZOFFSETTO:-0400
RDATE:20170312T020000
RDATE:20180311T020000
END:DAYLIGHT
END:VTIMEZONE
BEGIN:VEVENT
UID:7b8df871-a186-46b9-9df1-1823994a729b
DTSTAMP:20260424T135257Z
DESCRIPTION:Free and open to the public.
DTSTART;TZID=America/New_York:20170201T183000
DTEND;TZID=America/New_York:20170201T203000
LOCATION:Katz JCC\, JCC Social Hall\, Springdale Road\, Cherry Hill\, NJ
SUMMARY:Special Needs Resource Fair
END:VEVENT
END:VCALENDAR
