BEGIN:VCALENDAR
VERSION:2.0
PRODID:-//www.thearcfamilyinstitute.org//NONSGML kigkonsult.se iCalcreator 
 2.30.10//
CALSCALE:GREGORIAN
METHOD:PUBLISH
UID:90051cf1-4f73-4891-9efb-5a01231d8f47
X-WR-CALDESC:Caring for a loved one can put a strain on even the most resil
 ient person. If you're a caregiver\, you must take steps to preserve your 
 own health and well-being. Join the Arc of New Jersey Family Institute and
  The Arc Middlesex for a workshop designed to help you\, the caregiver\, l
 earn different ways to alleviate stress. \n\nPresenter: Dawn Mitten\, is a
  Massage Therapist and Reiki Practitioner. Dawn is also a parent with a Sp
 ecial needs child.
X-WR-RELCALID:9ce2bfdc1050e75892a7a5cd705f0007
X-WR-TIMEZONE:America/New_York
BEGIN:VTIMEZONE
TZID:America/New_York
BEGIN:STANDARD
TZNAME:EST
DTSTART:20161106T020000
TZOFFSETFROM:-0400
TZOFFSETTO:-0500
RDATE:20171105T020000
END:STANDARD
BEGIN:DAYLIGHT
TZNAME:EDT
DTSTART:20160313T020000
TZOFFSETFROM:-0500
TZOFFSETTO:-0400
RDATE:20170312T020000
RDATE:20180311T020000
END:DAYLIGHT
END:VTIMEZONE
BEGIN:VEVENT
UID:836ae1ad-4d6b-44b3-be8f-bc0067f1a5d3
DTSTAMP:20260424T152548Z
DESCRIPTION:Caring for a loved one can put a strain on even the most resili
 ent person. If you're a caregiver\, you must take steps to preserve your o
 wn health and well-being. Join the Arc of New Jersey Family Institute and 
 The Arc Middlesex for a workshop designed to help you\, the caregiver\, le
 arn different ways to alleviate stress. \n\nPresenter: Dawn Mitten\, is a 
 Massage Therapist and Reiki Practitioner. Dawn is also a parent with a Spe
 cial needs child.
DTSTART;TZID=America/New_York:20170131T183000
DTEND;TZID=America/New_York:20170131T200000
LOCATION:219 Black Horse Lane\, North Brunswick Township\, NJ 08902
SUMMARY:Caring For YOU! Stress Management and Alternative Options - Middles
 ex County
END:VEVENT
END:VCALENDAR
