BEGIN:VCALENDAR
VERSION:2.0
PRODID:-//www.thearcfamilyinstitute.org//NONSGML kigkonsult.se iCalcreator 
 2.30.10//
CALSCALE:GREGORIAN
METHOD:PUBLISH
UID:f703c257-8a30-4e16-9d62-38bd18bb3278
X-WR-CALDESC:These events are held throughout the state and consists of a P
 arent Forum that includes workshops (45-60 minutes) on specific topics inc
 luding support coordination\, the continuum of community services\, financ
 ial planning\, eligibility requirements\, and where to find help. The Oppo
 rtunity Expo features a variety of exhibitors including: state and county 
 government entities\, community service providers\, service coordinators\,
  local health care support and recreation providers\, additional informati
 on and referral services. Families will have an opportunity to be introduc
 ed to opportunities in their area as well as interview potential services 
 to hire. You don't want to miss it!
X-WR-RELCALID:1fba27d64f9652968848a25bfecd2b9a
X-WR-TIMEZONE:America/New_York
BEGIN:VTIMEZONE
TZID:America/New_York
BEGIN:STANDARD
TZNAME:EST
DTSTART:20161106T020000
TZOFFSETFROM:-0400
TZOFFSETTO:-0500
RDATE:20171105T020000
END:STANDARD
BEGIN:DAYLIGHT
TZNAME:EDT
DTSTART:20160313T020000
TZOFFSETFROM:-0500
TZOFFSETTO:-0400
RDATE:20170312T020000
RDATE:20180311T020000
END:DAYLIGHT
END:VTIMEZONE
BEGIN:VEVENT
UID:daecf4c4-1ab7-4e6b-a769-f3d4a3666da3
DTSTAMP:20260424T153605Z
DESCRIPTION:These events are held throughout the state and consists of a Pa
 rent Forum that includes workshops (45-60 minutes) on specific topics incl
 uding support coordination\, the continuum of community services\, financi
 al planning\, eligibility requirements\, and where to find help. The Oppor
 tunity Expo features a variety of exhibitors including: state and county g
 overnment entities\, community service providers\, service coordinators\, 
 local health care support and recreation providers\, additional informatio
 n and referral services. Families will have an opportunity to be introduce
 d to opportunities in their area as well as interview potential services t
 o hire. You don't want to miss it!
DTSTART;TZID=America/New_York:20170128T083000
DTEND;TZID=America/New_York:20170128T130000
LOCATION:New Roads School of Parlin\, 3071 Bordentown Ave\, Parlin\, NJ 088
 59
SUMMARY:FREE Parent Forum and Opportunity Expo - Middlesex County
END:VEVENT
END:VCALENDAR
