BEGIN:VCALENDAR
VERSION:2.0
PRODID:-//www.thearcfamilyinstitute.org//NONSGML kigkonsult.se iCalcreator 
 2.30.10//
CALSCALE:GREGORIAN
METHOD:PUBLISH
UID:92f6faf0-17bc-4bae-aa8a-bf913ca9975a
X-WR-CALDESC:SiblingResources.org has been launched through an exciting col
 laboration between Yang-Tan Institute of Cornell University\, The Sibling 
 Leadership Network\, and SibsNY. Through a grant from NYSDDPC\, we are bui
 lding the community for adult siblings of individuals with disabilities in
  NY.
X-WR-RELCALID:788f2ac58a8735f437beca551a6c40a8
X-WR-TIMEZONE:America/New_York
BEGIN:VTIMEZONE
TZID:America/New_York
BEGIN:STANDARD
TZNAME:EST
DTSTART:20161106T020000
TZOFFSETFROM:-0400
TZOFFSETTO:-0500
RDATE:20171105T020000
END:STANDARD
BEGIN:DAYLIGHT
TZNAME:EDT
DTSTART:20160313T020000
TZOFFSETFROM:-0500
TZOFFSETTO:-0400
RDATE:20170312T020000
RDATE:20180311T020000
END:DAYLIGHT
END:VTIMEZONE
BEGIN:VEVENT
UID:98599800-4ec0-42b6-a260-8f34e3a85636
DTSTAMP:20260424T152300Z
DESCRIPTION:SiblingResources.org has been launched through an exciting coll
 aboration between Yang-Tan Institute of Cornell University\, The Sibling L
 eadership Network\, and SibsNY. Through a grant from NYSDDPC\, we are buil
 ding the community for adult siblings of individuals with disabilities in 
 NY.
DTSTART;TZID=America/New_York:20170126T190000
DTEND;TZID=America/New_York:20170126T200000
LOCATION:
SUMMARY:Webinar: For Adult Siblings - Future planning
END:VEVENT
END:VCALENDAR
