BEGIN:VCALENDAR
VERSION:2.0
PRODID:-//www.thearcfamilyinstitute.org//NONSGML kigkonsult.se iCalcreator 
 2.30.10//
CALSCALE:GREGORIAN
METHOD:PUBLISH
UID:95e4cb36-bff5-490a-88ad-0772acd375e3
X-WR-CALDESC:Siblings of special needs children face unique challenges that
  are often overshadowed by other family needs. They must navigate issues o
 f sharing\, fairness\, stress\, helping out\, and understanding. Dr. Hartk
 e will speak about the challenges these siblings and their parents face\, 
 as well as strategies to help foster their positive development.
X-WR-RELCALID:712cc05eae61e98dd4cc7c20a7eb66eb
X-WR-TIMEZONE:America/New_York
BEGIN:VTIMEZONE
TZID:America/New_York
BEGIN:STANDARD
TZNAME:EST
DTSTART:20161106T020000
TZOFFSETFROM:-0400
TZOFFSETTO:-0500
RDATE:20171105T020000
END:STANDARD
BEGIN:DAYLIGHT
TZNAME:EDT
DTSTART:20160313T020000
TZOFFSETFROM:-0500
TZOFFSETTO:-0400
RDATE:20170312T020000
RDATE:20180311T020000
END:DAYLIGHT
END:VTIMEZONE
BEGIN:VEVENT
UID:b2920e0e-b2c5-4785-945f-bada34587f0c
DTSTAMP:20260424T151943Z
DESCRIPTION:Siblings of special needs children face unique challenges that 
 are often overshadowed by other family needs. They must navigate issues of
  sharing\, fairness\, stress\, helping out\, and understanding. Dr. Hartke
  will speak about the challenges these siblings and their parents face\, a
 s well as strategies to help foster their positive development.
DTSTART;TZID=America/New_York:20170125T193000
DTEND;TZID=America/New_York:20170125T203000
LOCATION:
SUMMARY:Webinar: Sibling Issues
END:VEVENT
END:VCALENDAR
